BEGIN:VCALENDAR
VERSION:2.0
PRODID:spatie/icalendar-generator
DESCRIPTION:Events from Serenitea Emporium
X-WR-CALDESC:Events from Serenitea Emporium
REFRESH-INTERVAL;VALUE=DURATION:PT1440M
X-PUBLISHED-TTL:PT1440M
BEGIN:VTIMEZONE
TZID:America/New_York
BEGIN:STANDARD
DTSTART:20251102T020000Z
TZOFFSETFROM:-0400
TZOFFSETTO:-0500
END:STANDARD
BEGIN:DAYLIGHT
DTSTART:20260308T020000Z
TZOFFSETFROM:-0500
TZOFFSETTO:-0400
END:DAYLIGHT
END:VTIMEZONE
BEGIN:VTIMEZONE
TZID:UTC
BEGIN:STANDARD
DTSTART:20250725T181123Z
TZOFFSETFROM:+0000
TZOFFSETTO:+0000
END:STANDARD
END:VTIMEZONE
BEGIN:VEVENT
UID:392-19
DTSTAMP:20260421T181123Z
SUMMARY:Tarot and Tattoo
LOCATION:
ORGANIZER;CN=admin:MAILTO:admin@sereniteaemporium.com
DTSTART;TZID=America/New_York:20260214T113000
DTEND;TZID=America/New_York:20260215T180000
X-ALT-DESC;FMTTYPE=TEXT/HTML:We are thrilled to announce the highly anticip
 ated event at SereniTea Emporium\, featuring Luma Leaf Tattoo. On Febuary 
 14th and 15th\, from 11:30 am to 6 pm\, we will host our  'Tarot and Tatt
 oo' event! This exclusive event requires appointments\, with a $25 deposit
  to secure your spot. Tattoo prices are $75 for one or&amp;hellip\;
CATEGORIES:General
URL;VALUE=URI:https://sereniteaemporium.com/mc-events/tarot-and-tattoo/
METHOD:PUBLISH
END:VEVENT
END:VCALENDAR