BEGIN:VCALENDAR
VERSION:2.0
PRODID:spatie/icalendar-generator
DESCRIPTION:Events from Serenitea Emporium
X-WR-CALDESC:Events from Serenitea Emporium
REFRESH-INTERVAL;VALUE=DURATION:PT1440M
X-PUBLISHED-TTL:PT1440M
BEGIN:VTIMEZONE
TZID:America/New_York
BEGIN:DAYLIGHT
DTSTART:20250309T020000Z
TZOFFSETFROM:-0500
TZOFFSETTO:-0400
END:DAYLIGHT
BEGIN:STANDARD
DTSTART:20251102T020000Z
TZOFFSETFROM:-0400
TZOFFSETTO:-0500
END:STANDARD
BEGIN:DAYLIGHT
DTSTART:20260308T020000Z
TZOFFSETFROM:-0500
TZOFFSETTO:-0400
END:DAYLIGHT
END:VTIMEZONE
BEGIN:VTIMEZONE
TZID:UTC
BEGIN:STANDARD
DTSTART:20250727T172521Z
TZOFFSETFROM:+0000
TZOFFSETTO:+0000
END:STANDARD
END:VTIMEZONE
BEGIN:VEVENT
UID:185-11
DTSTAMP:20260423T172521Z
SUMMARY:Samhain Eve
LOCATION:
ORGANIZER;CN=admin:MAILTO:admin@sereniteaemporium.com
DTSTART;TZID=America/New_York:20251031T190000
DTEND;TZID=America/New_York:20251031T223000
X-ALT-DESC;FMTTYPE=TEXT/HTML:This evening\, Join us at Serenitea Emporium f
 or a Samhain ritual at 7pm and a seance at 9pm.
CATEGORIES:General
URL;VALUE=URI:https://sereniteaemporium.com/mc-events/samhain-eve/
METHOD:PUBLISH
END:VEVENT
END:VCALENDAR