BEGIN:VCALENDAR
VERSION:2.0
PRODID:spatie/icalendar-generator
DESCRIPTION:Events from Serenitea Emporium
X-WR-CALDESC:Events from Serenitea Emporium
REFRESH-INTERVAL;VALUE=DURATION:PT1440M
X-PUBLISHED-TTL:PT1440M
BEGIN:VTIMEZONE
TZID:America/New_York
BEGIN:DAYLIGHT
DTSTART:20260308T020000Z
TZOFFSETFROM:-0500
TZOFFSETTO:-0400
END:DAYLIGHT
BEGIN:STANDARD
DTSTART:20261101T020000Z
TZOFFSETFROM:-0400
TZOFFSETTO:-0500
END:STANDARD
END:VTIMEZONE
BEGIN:VTIMEZONE
TZID:UTC
BEGIN:STANDARD
DTSTART:20250725T082658Z
TZOFFSETFROM:+0000
TZOFFSETTO:+0000
END:STANDARD
END:VTIMEZONE
BEGIN:VEVENT
UID:437-45
DTSTAMP:20260421T082658Z
SUMMARY:Make and Take workshop - Decorate your Broom/ Besom
LOCATION:
ORGANIZER;CN=admin:MAILTO:admin@sereniteaemporium.com
DTSTART;TZID=America/New_York:20260829T130000
DTEND;TZID=America/New_York:20260829T170000
X-ALT-DESC;FMTTYPE=TEXT/HTML:
CATEGORIES:Make and Take
URL;VALUE=URI:https://sereniteaemporium.com/mc-events/make-and-take-worksho
 p-decorate-your-broom-besom/
METHOD:PUBLISH
END:VEVENT
END:VCALENDAR